BEGIN:VCALENDAR
VERSION:2.0
PRODID:-//Laurel Ridge Workforce Solutions - ECPv6.10.1.1//NONSGML v1.0//EN
CALSCALE:GREGORIAN
METHOD:PUBLISH
X-ORIGINAL-URL:https://laurelridgeworkforce.com
X-WR-CALDESC:Events for Laurel Ridge Workforce Solutions
REFRESH-INTERVAL;VALUE=DURATION:PT1H
X-Robots-Tag:noindex
X-PUBLISHED-TTL:PT1H
BEGIN:VTIMEZONE
TZID:America/New_York
BEGIN:DAYLIGHT
TZOFFSETFROM:-0500
TZOFFSETTO:-0400
TZNAME:EDT
DTSTART:20250309T070000
END:DAYLIGHT
BEGIN:STANDARD
TZOFFSETFROM:-0400
TZOFFSETTO:-0500
TZNAME:EST
DTSTART:20251102T060000
END:STANDARD
BEGIN:DAYLIGHT
TZOFFSETFROM:-0500
TZOFFSETTO:-0400
TZNAME:EDT
DTSTART:20260308T070000
END:DAYLIGHT
BEGIN:STANDARD
TZOFFSETFROM:-0400
TZOFFSETTO:-0500
TZNAME:EST
DTSTART:20261101T060000
END:STANDARD
BEGIN:DAYLIGHT
TZOFFSETFROM:-0500
TZOFFSETTO:-0400
TZNAME:EDT
DTSTART:20270314T070000
END:DAYLIGHT
BEGIN:STANDARD
TZOFFSETFROM:-0400
TZOFFSETTO:-0500
TZNAME:EST
DTSTART:20271107T060000
END:STANDARD
END:VTIMEZONE
BEGIN:VEVENT
DTSTART;VALUE=DATE:20250114
DTEND;VALUE=DATE:20280101
DTSTAMP:20260420T071545
CREATED:20250114T070000Z
LAST-MODIFIED:20260415T102226Z
UID:10005571-1736812800-1830297599@laurelridgeworkforce.com
SUMMARY:Solid Waste Operations
DESCRIPTION:This four-course program is important training for homeland security as it relates to solid waste management.  This introductory course includes instruction in Landfill operations\, Composting operations\, Household Hazardous Waste and Wastewater Operations (solids).  These classes will meet or exceed most state requirements for the educational components of certification and/or licensing required for solid waste professionals. Details
URL:https://laurelridgeworkforce.com/event/solid-waste-operations/
LOCATION:Online 24/7
CATEGORIES:Green,Skilled Trades
END:VEVENT
BEGIN:VEVENT
DTSTART;VALUE=DATE:20250114
DTEND;VALUE=DATE:20280101
DTSTAMP:20260420T071545
CREATED:20250114T070000Z
LAST-MODIFIED:20260415T102322Z
UID:10005600-1736812800-1830297599@laurelridgeworkforce.com
SUMMARY:Photovoltaic Technician
DESCRIPTION:The Photovoltaic System Professional course covers the principles of photovoltaics and how to effectively incorporate PV systems into stand- alone or interconnected electrical systems. The content includes system advantages and disadvantages\, site evaluation\, component operation\, system design and sizing\, and installation requirements and recommended practices. Common scenarios and procedures are discussed throughout. Details
URL:https://laurelridgeworkforce.com/event/photovoltaic-technician/
LOCATION:Online 24/7
CATEGORIES:Green,Skilled Trades
END:VEVENT
BEGIN:VEVENT
DTSTART;VALUE=DATE:20250114
DTEND;VALUE=DATE:20280101
DTSTAMP:20260420T071545
CREATED:20250114T070000Z
LAST-MODIFIED:20260415T102323Z
UID:10005601-1736812800-1830297599@laurelridgeworkforce.com
SUMMARY:Solar Water Heating Technician
DESCRIPTION:This course covers solar fundamentals\, site assessment\, system design and sizing\, the installation and service of system components\, system start-up and maintenance\, and worker safety. Solar Water addresses residential and light commercial solar water heating systems for domestic hot water and swimming pool applications.  Details
URL:https://laurelridgeworkforce.com/event/solar-water-heating-technician/
LOCATION:Online 24/7
CATEGORIES:Green,Skilled Trades
END:VEVENT
BEGIN:VEVENT
DTSTART;VALUE=DATE:20250114
DTEND;VALUE=DATE:20280101
DTSTAMP:20260420T071545
CREATED:20250114T070000Z
LAST-MODIFIED:20260415T102327Z
UID:10005602-1736812800-1830297599@laurelridgeworkforce.com
SUMMARY:Wind Energy Technician
DESCRIPTION:As the world’s shift away from reliance on fossil fuels the Wind Energy Industry leads the way. In just a few short decades wind energy has evolved dramatically. Technological advances now make wind energy a cost-effective solution for the world’s ever-growing energy needs. The United States leads in the overall wind power capacity. As the wind energy industry continues to expand in the United States and around the globe\, it will provide many opportunities for workers in search of new careers. These careers extend beyond the wind farm and include the efforts of employees who work in manufacturing plants\, offices\, and construction\, as well as operation and maintenance.\nThis course provides learners with an overview of wind-energy history\, basic concepts\, costs\, and uses. It is designed for the novice and emphasizes an overview of wind-energy conversion and applications of various wind-turbine systems. Some additional course features include: wind turbine blades\, installing and troubleshooting wind turbines\, motors\, towers\, and electrical coverage. Details
URL:https://laurelridgeworkforce.com/event/wind-energy-technician/
LOCATION:Online 24/7
CATEGORIES:Green,Skilled Trades
END:VEVENT
END:VCALENDAR