BEGIN:VCALENDAR
VERSION:2.0
PRODID:-//Laurel Ridge Workforce Solutions - ECPv6.10.1.1//NONSGML v1.0//EN
CALSCALE:GREGORIAN
METHOD:PUBLISH
X-ORIGINAL-URL:https://laurelridgeworkforce.com
X-WR-CALDESC:Events for Laurel Ridge Workforce Solutions
REFRESH-INTERVAL;VALUE=DURATION:PT1H
X-Robots-Tag:noindex
X-PUBLISHED-TTL:PT1H
BEGIN:VTIMEZONE
TZID:America/New_York
BEGIN:DAYLIGHT
TZOFFSETFROM:-0500
TZOFFSETTO:-0400
TZNAME:EDT
DTSTART:20260308T070000
END:DAYLIGHT
BEGIN:STANDARD
TZOFFSETFROM:-0400
TZOFFSETTO:-0500
TZNAME:EST
DTSTART:20261101T060000
END:STANDARD
BEGIN:DAYLIGHT
TZOFFSETFROM:-0500
TZOFFSETTO:-0400
TZNAME:EDT
DTSTART:20270314T070000
END:DAYLIGHT
BEGIN:STANDARD
TZOFFSETFROM:-0400
TZOFFSETTO:-0500
TZNAME:EST
DTSTART:20271107T060000
END:STANDARD
END:VTIMEZONE
BEGIN:VEVENT
DTSTART;TZID=America/New_York:20260526T180000
DTEND;TZID=America/New_York:20260526T220000
DTSTAMP:20260425T082232
CREATED:20250114T070000Z
LAST-MODIFIED:20260415T102206Z
UID:10005564-1779818400-1779832800@laurelridgeworkforce.com
SUMMARY:Heavy Equipment Operator Level 1
DESCRIPTION:Become a heavy equipment operator and earn an industry recognized credential. The Heavy Equipment Operator program was developed to meet the growing employment demands for equipment operators.\nThis class serves as the first level of training in the Heavy Equipment Operator program. Structured as a hybrid class\, using online homework and live classroom lecture\, students will learn the following content: core craft skills\, orientation to the trade\, heavy equipment safety\, identification of heavy equipment\, basic operational techniques\, utility tractors\, introduction to earthmoving\, and interpreting civil drawings\, using simulator exercises for equipment basic controls\, loading & unloading\, excavating\, and trenching.  Students receive hands-on training with state of the art simulators\, that replicate real-life operating scenarios through rotation-motion platforms and high-resolution 3D displays for excavator and wheel loader equipment.
URL:https://laurelridgeworkforce.com/event/heavy-equipment-operator-level-1/
LOCATION:Laurel Ridge Fauquier Campus\, 6480 College Street\, Warrenton\, VA\, 20187\, United States
CATEGORIES:Construction,Skilled Trades
END:VEVENT
BEGIN:VEVENT
DTSTART;TZID=America/New_York:20260608T170000
DTEND;TZID=America/New_York:20260608T210000
DTSTAMP:20260425T082232
CREATED:20250114T070000Z
LAST-MODIFIED:20260415T103436Z
UID:10005901-1780938000-1780952400@laurelridgeworkforce.com
SUMMARY:Fiber Optic Technician
DESCRIPTION:The Fiber Optic Technician course is a deeper dive into the world of fiber. Students will review cables and theory before moving into FTTx\, emergency restoration\, fiber characterization\, and latest trends. This course will also offer hours of hands-on cable splicing and termination. Students will sit for the ETA Fiber Optic Technician- Outside Plant Certification Exam. All materials and exam included. 
URL:https://laurelridgeworkforce.com/event/fiber-optic-technician/
LOCATION:Laurel Ridge Fauquier Campus\, 6480 College Street\, Warrenton\, VA\, 20187\, United States
CATEGORIES:Construction,Skilled Trades
END:VEVENT
BEGIN:VEVENT
DTSTART;TZID=America/New_York:20260613T080000
DTEND;TZID=America/New_York:20260613T160000
DTSTAMP:20260425T082232
CREATED:20250114T070000Z
LAST-MODIFIED:20260415T102220Z
UID:10005567-1781337600-1781366400@laurelridgeworkforce.com
SUMMARY:Heavy Equipment Operator Level 1 FP
DESCRIPTION:Become a heavy equipment operator and earn an industry recognized credential. The Heavy Equipment Operator program was developed to meet the growing employment demands for equipment operators.\nThis class serves as the first level of training in the Heavy Equipment Operator program. Structured as a hybrid class\, using online homework and live classroom lecture\, students will learn the following content: core craft skills\, orientation to the trade\, heavy equipment safety\, identification of heavy equipment\, basic operational techniques\, utility tractors\, introduction to earthmoving\, and interpreting civil drawings\, using simulator exercises for equipment basic controls\, loading & unloading\, excavating\, and trenching.  Students receive hands-on training with state of the art simulators\, that replicate real-life operating scenarios through rotation-motion platforms and high-resolution 3D displays for excavator and wheel loader equipment.
URL:https://laurelridgeworkforce.com/event/heavy-equipment-operator-level-1-fp/
LOCATION:Laurel Ridge Middletown Campus\, 173 Skirmisher Lane\, Middletown\, VA\, 22654\, United States
CATEGORIES:Construction,Skilled Trades
END:VEVENT
BEGIN:VEVENT
DTSTART;TZID=America/New_York:20260803T170000
DTEND;TZID=America/New_York:20260803T210000
DTSTAMP:20260425T082232
CREATED:20250114T070000Z
LAST-MODIFIED:20260424T093601Z
UID:10005535-1785776400-1785790800@laurelridgeworkforce.com
SUMMARY:Fiber Optic Installer
DESCRIPTION:Fiber Optic Installers are responsible for installing\, maintaining\, and repairing fiber optic cables and related equipment. Fiber optic installers typically work in various industries such as telecommunications\, internet service providers\, cable television companies\, and data centers. This program will cover basics of fiber and transmission theory\, various cables and connectors\, splicing\, installation\, and more. No experience necessary. All materials and exam included. 
URL:https://laurelridgeworkforce.com/event/fiber-optic-installer/
LOCATION:Laurel Ridge Fauquier Campus\, 6480 College Street\, Warrenton\, VA\, 20187\, United States
CATEGORIES:Construction,Skilled Trades
END:VEVENT
BEGIN:VEVENT
DTSTART;TZID=America/New_York:20260805T170000
DTEND;TZID=America/New_York:20260805T200000
DTSTAMP:20260425T082232
CREATED:20250114T070000Z
LAST-MODIFIED:20260415T103407Z
UID:10005892-1785949200-1785960000@laurelridgeworkforce.com
SUMMARY:Fundamentals of Construction Project Management
DESCRIPTION: Lay the groundwork for success in construction project management with an engaging introduction to essential project management skills.Fundamentals of Construction Project Management  provides students with a foundational understanding of the core principles\, terminology\, and practices used across the construction industry. Essential concepts covered include construction terminology\, project roles\, basic scheduling and estimating methods\, reading and interpreting construction documents\, and fundamental safety awareness. Emphasis is also placed on developing practical communication and interpersonal skills needed to work effectively on project teams. Designed for students new to the field or those seeking greater confidence before advancing\, this course also serves as strong preparation for the more advanced Construction Project Management course\, ensuring participants enter with the foundational knowledge necessary for success.
URL:https://laurelridgeworkforce.com/event/fundamentals-of-construction-project-management/
LOCATION:Laurel Ridge Middletown Campus\, 173 Skirmisher Lane\, Middletown\, VA\, 22654\, United States
CATEGORIES:Construction,Skilled Trades
END:VEVENT
BEGIN:VEVENT
DTSTART;TZID=America/New_York:20260914T180000
DTEND;TZID=America/New_York:20260914T220000
DTSTAMP:20260425T082232
CREATED:20250114T070000Z
LAST-MODIFIED:20260415T102215Z
UID:10005566-1789408800-1789423200@laurelridgeworkforce.com
SUMMARY:Heavy Equipment Operator Level 1
DESCRIPTION:Become a heavy equipment operator and earn an industry recognized credential. The Heavy Equipment Operator program was developed to meet the growing employment demands for equipment operators.\nThis class serves as the first level of training in the Heavy Equipment Operator program. Structured as a hybrid class\, using online homework and live classroom lecture\, students will learn the following content: core craft skills\, orientation to the trade\, heavy equipment safety\, identification of heavy equipment\, basic operational techniques\, utility tractors\, introduction to earthmoving\, and interpreting civil drawings\, using simulator exercises for equipment basic controls\, loading & unloading\, excavating\, and trenching.  Students receive hands-on training with state of the art simulators\, that replicate real-life operating scenarios through rotation-motion platforms and high-resolution 3D displays for excavator and wheel loader equipment.
URL:https://laurelridgeworkforce.com/event/heavy-equipment-operator-level-1-3/
LOCATION:Laurel Ridge Middletown Campus\, 173 Skirmisher Lane\, Middletown\, VA\, 22654\, United States
CATEGORIES:Construction,Skilled Trades
END:VEVENT
BEGIN:VEVENT
DTSTART;TZID=America/New_York:20260921T170000
DTEND;TZID=America/New_York:20260921T200000
DTSTAMP:20260425T082232
CREATED:20250114T070000Z
LAST-MODIFIED:20260415T103406Z
UID:10005891-1790010000-1790020800@laurelridgeworkforce.com
SUMMARY:Construction Project Management
DESCRIPTION:Enhance your construction experience with a credential specializing in Project Management! The National Center for Construction Education and Research (NCCER) Construction Project Management Certification program is designed to provide you with knowledge of project planning and design\, estimating\, scheduling\, contract documents along with the techniques and technology necessary to be successful. 3+ years experience in the Construction Industry highly recommended prior to taking this course. The class is taught in an accelerated format which requires work to be completed outside of class time\, including a cumulative project. Textbook and all certifications included. This class meets twice a week for a total of 22 class sessions. \nPre-requisite: 3+ years of industry experience or successful completion of Fundamentals of Construction Project Management.  Complete pre-assessment prior to registration.  Construction Project Management Pre-assessment
URL:https://laurelridgeworkforce.com/event/construction-project-management/
LOCATION:Laurel Ridge Middletown Campus\, 173 Skirmisher Lane\, Middletown\, VA\, 22654\, United States
CATEGORIES:Construction,Skilled Trades
END:VEVENT
BEGIN:VEVENT
DTSTART;TZID=America/New_York:20260928T170000
DTEND;TZID=America/New_York:20260928T210000
DTSTAMP:20260425T082232
CREATED:20250114T070000Z
LAST-MODIFIED:20260415T103438Z
UID:10005902-1790614800-1790629200@laurelridgeworkforce.com
SUMMARY:Fiber Optic Technician
DESCRIPTION:The Fiber Optic Technician course is a deeper dive into the world of fiber. Students will review cables and theory before moving into FTTx\, emergency restoration\, fiber characterization\, and latest trends. This course will also offer hours of hands-on cable splicing and termination. Students will sit for the ETA Fiber Optic Technician- Outside Plant Certification Exam. All materials and exam included. 
URL:https://laurelridgeworkforce.com/event/fiber-optic-technician-2/
LOCATION:Laurel Ridge Fauquier Campus\, 6480 College Street\, Warrenton\, VA\, 20187\, United States
CATEGORIES:Construction,Skilled Trades
END:VEVENT
BEGIN:VEVENT
DTSTART;TZID=America/New_York:20270130T080000
DTEND;TZID=America/New_York:20270130T160000
DTSTAMP:20260425T082232
CREATED:20260114T050000Z
LAST-MODIFIED:20260415T103619Z
UID:10005924-1801296000-1801324800@laurelridgeworkforce.com
SUMMARY:Core Craft Skills Heavy Equipment
DESCRIPTION:This class serves as the foundation to all trade apprenticeship programs. Students will learn the necessary basics to start a career in any skilled trade. Topics covered in this class are: Basic Safety\, Introduction to Construction Math\, Introduction to Hand Tools\, Introduction to Power Tools\, Introduction to Construction Drawings\, Basic Communication Skills\, Basic Employability Skills\, and Introduction to Materials Handling.
URL:https://laurelridgeworkforce.com/event/core-craft-skills-heavy-equipment/
LOCATION:Laurel Ridge Fauquier Campus\, 6480 College Street\, Warrenton\, VA\, 20187\, United States
CATEGORIES:Construction,Skilled Trades
END:VEVENT
BEGIN:VEVENT
DTSTART;TZID=America/New_York:20270130T080000
DTEND;TZID=America/New_York:20270130T160000
DTSTAMP:20260425T082232
CREATED:20260114T050000Z
LAST-MODIFIED:20260415T103620Z
UID:10005925-1801296000-1801324800@laurelridgeworkforce.com
SUMMARY:Heavy Equipment Operator Level 1
DESCRIPTION:Become a heavy equipment operator and earn an industry recognized credential. The Heavy Equipment Operator program was developed to meet the growing employment demands for equipment operators.\nThis class serves as the first level of training in the Heavy Equipment Operator program. Structured as a hybrid class\, using online homework and live classroom lecture\, students will learn the following content: core craft skills\, orientation to the trade\, heavy equipment safety\, identification of heavy equipment\, basic operational techniques\, utility tractors\, introduction to earthmoving\, and interpreting civil drawings\, using simulator exercises for equipment basic controls\, loading & unloading\, excavating\, and trenching.  Students receive hands-on training with state of the art simulators\, that replicate real-life operating scenarios through rotation-motion platforms and high-resolution 3D displays for excavator and wheel loader equipment.
URL:https://laurelridgeworkforce.com/event/heavy-equipment-operator-level-1-4/
LOCATION:Laurel Ridge Fauquier Campus\, 6480 College Street\, Warrenton\, VA\, 20187\, United States
CATEGORIES:Construction,Skilled Trades
END:VEVENT
END:VCALENDAR