BEGIN:VCALENDAR
VERSION:2.0
PRODID:-//Laurel Ridge Workforce Solutions - ECPv6.10.1.1//NONSGML v1.0//EN
CALSCALE:GREGORIAN
METHOD:PUBLISH
X-ORIGINAL-URL:https://laurelridgeworkforce.com
X-WR-CALDESC:Events for Laurel Ridge Workforce Solutions
REFRESH-INTERVAL;VALUE=DURATION:PT1H
X-Robots-Tag:noindex
X-PUBLISHED-TTL:PT1H
BEGIN:VTIMEZONE
TZID:America/New_York
BEGIN:DAYLIGHT
TZOFFSETFROM:-0500
TZOFFSETTO:-0400
TZNAME:EDT
DTSTART:20250309T070000
END:DAYLIGHT
BEGIN:STANDARD
TZOFFSETFROM:-0400
TZOFFSETTO:-0500
TZNAME:EST
DTSTART:20251102T060000
END:STANDARD
BEGIN:DAYLIGHT
TZOFFSETFROM:-0500
TZOFFSETTO:-0400
TZNAME:EDT
DTSTART:20260308T070000
END:DAYLIGHT
BEGIN:STANDARD
TZOFFSETFROM:-0400
TZOFFSETTO:-0500
TZNAME:EST
DTSTART:20261101T060000
END:STANDARD
BEGIN:DAYLIGHT
TZOFFSETFROM:-0500
TZOFFSETTO:-0400
TZNAME:EDT
DTSTART:20270314T070000
END:DAYLIGHT
BEGIN:STANDARD
TZOFFSETFROM:-0400
TZOFFSETTO:-0500
TZNAME:EST
DTSTART:20271107T060000
END:STANDARD
END:VTIMEZONE
BEGIN:VEVENT
DTSTART;VALUE=DATE:20250114
DTEND;VALUE=DATE:20280101
DTSTAMP:20260420T092506
CREATED:20250114T070000Z
LAST-MODIFIED:20260415T102225Z
UID:10005570-1736812800-1830297599@laurelridgeworkforce.com
SUMMARY:Landfill Operations
DESCRIPTION:Using the Internet those taking this course will gain a vast array of knowledge concerning the many aspects of landfill operations. This course provides eight foundation blocks for the operator with units on waste decomposition\, geology & hydrology\, engineering\, surveying\, landfill design\, landfill construction\, landfill operations\, and regulations.  This class will meet or exceed most state requirements for the educational components of certification and/or licensing required for solid waste professionals. Details
URL:https://laurelridgeworkforce.com/event/landfill-operations/
LOCATION:Online 24/7
CATEGORIES:Industrial Technology,Industry and Manufacturing
END:VEVENT
BEGIN:VEVENT
DTSTART;VALUE=DATE:20250114
DTEND;VALUE=DATE:20280101
DTSTAMP:20260420T092506
CREATED:20250114T070000Z
LAST-MODIFIED:20260415T102247Z
UID:10005581-1736812800-1830297599@laurelridgeworkforce.com
SUMMARY:Composting Operations
DESCRIPTION:Composting is the controlled process of organic degradation or waste decomposition. This web-based course will provide those taking the class with knowledge in the process of waste decomposition\, an array of microorganisms and invertebrates consume the organics and convert them to humus.  In the truest sense\, solid waste composting is actually microbe farming\, and like any type of farming\, success has a lot to do with the farmer knowing how to make what he is raising thrive and grow.  This class will meet or exceed most state requirements for the educational components of certification and/or licensing required for solid waste professionals. Details
URL:https://laurelridgeworkforce.com/event/composting-operations/
LOCATION:Online 24/7
CATEGORIES:Industrial Technology,Industry and Manufacturing
END:VEVENT
BEGIN:VEVENT
DTSTART;VALUE=DATE:20250114
DTEND;VALUE=DATE:20280101
DTSTAMP:20260420T092506
CREATED:20250114T070000Z
LAST-MODIFIED:20260415T102333Z
UID:10005605-1736812800-1830297599@laurelridgeworkforce.com
SUMMARY:Fundamentals of Landscaping Design and Business
DESCRIPTION:In this course\, we will explore the art and business of landscaping\, from an understanding of plants and foliage\, to principles of design\, to technology\, to business and management considerations. Details
URL:https://laurelridgeworkforce.com/event/fundamentals-of-landscaping-design-and-business/
LOCATION:Online 24/7
CATEGORIES:Industrial Technology,Industry and Manufacturing
END:VEVENT
END:VCALENDAR